BEGIN:VCALENDAR
VERSION:2.0
PRODID:-//Weihnachtsmarkt Recklinghausen - ECPv6.15.16//NONSGML v1.0//EN
CALSCALE:GREGORIAN
METHOD:PUBLISH
X-ORIGINAL-URL:https://weihnachtsmarkt-re.de
X-WR-CALDESC:Veranstaltungen für Weihnachtsmarkt Recklinghausen
REFRESH-INTERVAL;VALUE=DURATION:PT1H
X-Robots-Tag:noindex
X-PUBLISHED-TTL:PT1H
BEGIN:VTIMEZONE
TZID:UTC
BEGIN:STANDARD
TZOFFSETFROM:+0000
TZOFFSETTO:+0000
TZNAME:UTC
DTSTART:20230101T000000
END:STANDARD
END:VTIMEZONE
BEGIN:VEVENT
DTSTART;TZID=UTC:20251214T130000
DTEND;TZID=UTC:20251214T180000
DTSTAMP:20260422T101658
CREATED:20251111T195559Z
LAST-MODIFIED:20251203T081430Z
UID:10000115-1765717200-1765735200@weihnachtsmarkt-re.de
SUMMARY:Riesen-Seifenblasenkunst in der gesamten Altstadt
DESCRIPTION:Genießen Sie Schwärme von großen und kleinen\, langen und runden magischen Kugeln die die Luft erfüllen. Oder werden Sie selber zum Seifenblasenkünstler\, in der Seifenblasenshow. Erschaffen Sie eine Wolke schillernd\, tanzender Seifenblasen und lassen Sie sich mitreißen von der Kunst der Seinfeblasen.
URL:https://weihnachtsmarkt-re.de/programmpunkt/riesen-seifenblasenkunst-am-palais-vest
LOCATION:Recklinghäuser Innenstadt – mal hier\, mal dort\, Recklinghausen\, 45657
ATTACH;FMTTYPE=image/png:https://weihnachtsmarkt-re.de/wp-content/uploads/2025/11/seifeblasen_Palais.png
END:VEVENT
BEGIN:VEVENT
DTSTART;TZID=UTC:20251214T130000
DTEND;TZID=UTC:20251214T180000
DTSTAMP:20260422T101658
CREATED:20251110T215150Z
LAST-MODIFIED:20251110T215150Z
UID:10000114-1765717200-1765735200@weihnachtsmarkt-re.de
SUMMARY:Joekskapel Göt Net in der gesamten Altstadt
DESCRIPTION:Die Marching-Band aus den Niederlanden bei uns auf dem Weihnachtsmarkt. Sie treten in der Recklinghäuser Innenstadt auf – mal hier\, mal dort. \nOrt: Palais Vest\, Altstadtmarkt\, Kirchplatz
URL:https://weihnachtsmarkt-re.de/programmpunkt/joekskapel-goet-net-in-der-gesamten-altstadt-2
LOCATION:Recklinghäuser Innenstadt – mal hier\, mal dort\, Recklinghausen\, 45657
ATTACH;FMTTYPE=image/jpeg:https://weihnachtsmarkt-re.de/wp-content/uploads/2024/12/415122291_1132310158055141_5570167631205299422_n.jpg
END:VEVENT
BEGIN:VEVENT
DTSTART;TZID=UTC:20251214T130000
DTEND;TZID=UTC:20251214T180000
DTSTAMP:20260422T101658
CREATED:20251110T171201Z
LAST-MODIFIED:20251110T171335Z
UID:10000105-1765717200-1765735200@weihnachtsmarkt-re.de
SUMMARY:Livemusik mit "Das PortAl Formidabel" am verkaufsoffenen Sonntag
DESCRIPTION:Livemusik mit „Das PortAl Formidabel“ auf dem Altstadtmarkt \n„Das PortAl Formidabel“ ist ein einzigartig abwechslungsreiches Konzept der Unterhaltung im Baukasten-System. \nTina Vogel-Portale und Roland Portale präsentieren überwiegend Cover-Musik von Klassik bis Rock mit unterschiedlichen Künstlern. Je nach Wunsch des Veranstalters passen sich dabei die Musiker auch optisch von Kopf bis Fuß dem Anlass an. \nEntertainment inclusive!!! \nOrt: Palais Vest\, Altstadtmarkt\, Kirchplatz
URL:https://weihnachtsmarkt-re.de/programmpunkt/livemusik-mit-das-portal-formidabel-am-verkaufsoffenen-sonntag
LOCATION:Recklinghäuser Innenstadt – mal hier\, mal dort\, Recklinghausen\, 45657
ATTACH;FMTTYPE=image/jpeg:https://weihnachtsmarkt-re.de/wp-content/uploads/2024/11/WhatsApp-Image-2024-11-22-at-16.44.55-scaled.jpeg
END:VEVENT
BEGIN:VEVENT
DTSTART;TZID=UTC:20251205T170000
DTEND;TZID=UTC:20251205T183000
DTSTAMP:20260422T101658
CREATED:20251204T091204Z
LAST-MODIFIED:20251204T091204Z
UID:10000134-1764954000-1764959400@weihnachtsmarkt-re.de
SUMMARY:Nikolausumzug in der Altstadt
DESCRIPTION:Zum 93. Mal zieht der Nikolaus durch die Recklinghäuser Altstadt – für viele der traditionelle Start in die Adventszeit. \n📅 Freitag\, 5.12.\n⏰ Start: 17:00 Uhr\n📍 Kirchplatz an St. Peter \nGemeinsam mit Familien\, Live-Musik\, Gesang und den Weihnachtswichteln der Grundschule Kohlkamp begleitet ihr den Nikolaus in seiner Kutsche durch die „Gute Stube“. Der Umzug endet wieder auf dem Kirchplatz.\nDort begrüßt Bürgermeister Axel Tschersich den heiligen Mann – und unterstützt ihn anschließend bei der Verteilung der Stutenkerle an die kleinen Teilnehmer*innen.\nDer Umzug wird organisiert von der Arena Recklinghausen GmbH\, dem Stadtkomitee der Katholiken\, unterstützt von den Knappschaft Kliniken und Malzers Backstube. \nKommt mit bunten Laternen und erlebt einen stimmungsvollen Abend voller Tradition und Weihnachten! 🎄✨ \nFoto: Stadt RE (Archiv)
URL:https://weihnachtsmarkt-re.de/programmpunkt/nikolausumzug-in-der-altstadt
LOCATION:Recklinghäuser Innenstadt – mal hier\, mal dort\, Recklinghausen\, 45657
ATTACH;FMTTYPE=image/jpeg:https://weihnachtsmarkt-re.de/wp-content/uploads/2025/12/nikolaus.jpeg
END:VEVENT
BEGIN:VEVENT
DTSTART;TZID=UTC:20241215T133000
DTEND;TZID=UTC:20241215T170000
DTSTAMP:20260422T101658
CREATED:20241218T095350Z
LAST-MODIFIED:20241218T095350Z
UID:10000053-1734269400-1734282000@weihnachtsmarkt-re.de
SUMMARY:Joekskapel Göt Net in der gesamten Altstadt
DESCRIPTION:Die Marching-Band aus den Niederlanden bei uns auf dem Weihnachtsmarkt. Sie treten in der Recklinghäuser Innenstadt auf – mal hier\, mal dort.
URL:https://weihnachtsmarkt-re.de/programmpunkt/joekskapel-goet-net-in-der-gesamten-altstadt
LOCATION:Recklinghäuser Innenstadt – mal hier\, mal dort\, Recklinghausen\, 45657
ATTACH;FMTTYPE=image/jpeg:https://weihnachtsmarkt-re.de/wp-content/uploads/2024/12/415122291_1132310158055141_5570167631205299422_n.jpg
END:VEVENT
BEGIN:VEVENT
DTSTART;TZID=UTC:20241215T133000
DTEND;TZID=UTC:20241215T170000
DTSTAMP:20260422T101658
CREATED:20241213T081738Z
LAST-MODIFIED:20241213T081738Z
UID:10000054-1734269400-1734282000@weihnachtsmarkt-re.de
SUMMARY:Maskottchen-Tag beim verkaufsoffenen Sonntag
DESCRIPTION:„Kinder treffen Ihre Stars“\nGroßes Meet & Greet mit: Der Grinch\, Micky & Minnie Mouse\, Mario & Luigi\, Paw Patrol\, Olaf der Schneemann \nFoto: Recklinghäuser Zeitung\, Beispielfoto
URL:https://weihnachtsmarkt-re.de/programmpunkt/maskottchen-tag-beim-verkaufsoffenen-sonntag
LOCATION:Recklinghäuser Innenstadt – mal hier\, mal dort\, Recklinghausen\, 45657
ATTACH;FMTTYPE=image/jpeg:https://weihnachtsmarkt-re.de/wp-content/uploads/2024/12/630_0900_3614414_PalmkirmesRecklinghausen_2400x1600px_10.jpg
END:VEVENT
END:VCALENDAR